Workbook

Sheet dataviz
B2: 1 na 440 | F2: To dużo czy mało?
B16: Każdego roku w polskich szpitalach pozostawianych jest kilkaset noworodków. Ich rodzice z różnych przyczyn nie mogą się nimi zająć i podpisują wstępną deklarację o przekazaniu dziecka do adopcji.
B26: 1 dziecko na każde 440 urodzonych w zeszłym roku zostało opuszczone zaraz po urodzeniu.
B55: W ciągu ostatnich 10 lat opuszczone zostało aż 6140 dzieci.
B98: Fundacja Gajusz prowadzi jeden z trzech interwencyjnych ośrodków preadopcyjnych w Polsce. To tymczasowe domy dla dzieci czekających na nową rodzinę. Trafiają do nas nawet kilkudniowe noworodki i mogą tu pozostać do ukończenia roczku. W tym czasie zespół specjalistów dba o ich rozwój i zastępuje nieobecnych rodziców.
B110: Czy wszędzie w Polsce statystyki wyglądają podobnie? Zdecydowanie nie…

Sheet wykres_liniowy
C2: 2014 | D2: 2015 | E2: 2016 | F2: 2017 | G2: 2018 | H2: 2019 | I2: 2020 | J2: 2021 | K2: 2022 | L2: 2023
B3: Urodzenia ogółem | C3: =urodzenia!B19/1000 -> 375.16 | D3: =urodzenia!C19/1000 -> 369.308 | E3: =urodzenia!D19/1000 -> 382.257 | F3: =urodzenia!E19/1000 -> 401.982 | G3: =urodzenia!F19/1000 -> 388.178 | H3: =urodzenia!G19/1000 -> 374.954 | I3: =urodzenia!H19/1000 -> 355.309 | J3: =urodzenia!I19/1000 -> 331.511 | ... L3: =urodzenia!K19/1000 -> 272.451 | N3: =(L3-G3)/G3 -> -0.29812869
B4: Opuszczone | C4: =opuszczone!B19 -> 772 | D4: =opuszczone!C19 -> 762 | E4: =opuszczone!D19 -> 709 | F4: =opuszczone!E19 -> 551 | G4: =opuszczone!F19 -> 472 | H4: =opuszczone!G19 -> 527 | I4: =opuszczone!H19 -> 506 | J4: =opuszczone!I19 -> 643 | ... L4: =opuszczone!K19 -> 627 | N4: =(L4-G4)/G4 -> 0.32838983
B5: % opuszczonych | C5: =C4/(C3*1000) -> 0.0020577887 | D5: =D4/(D3*1000) -> 0.0020633184 | E5: =E4/(E3*1000) -> 0.0018547731 | F5: =F4/(F3*1000) -> 0.0013707081 | G5: =G4/(G3*1000) -> 0.001215937 | H5: =H4/(H3*1000) -> 0.0014055057 | I5: =I4/(I3*1000) -> 0.0014241125 | J5: =J4/(J3*1000) -> 0.0019396038 | ... L5: =L4/(L3*1000) -> 0.0023013312
B6: 1 na… | C6: =1/C5 -> 485.95855 | D6: =1/D5 -> 484.65617 | E6: =1/E5 -> 539.14951 | F6: =1/F5 -> 729.54991 | G6: =1/G5 -> 822.41102 | H6: =1/H5 -> 711.48767 | I6: =1/I5 -> 702.1917 | J6: =1/J5 -> 515.56921 | ... L6: =1/L5 -> 434.5311
B34: Województwo | C34: Średnia z 10 lat
B35: Podkarpackie | C35: 0.00024089684
B36: Lubelskie | C36: 0.00090196452
B37: Świętokrz. | C37: 0.00094721864
B38: Podlaskie | C38: 0.0010586275
B39: Mazowieckie | C39: 0.0011670189
B40: Małopolsk. | C40: 0.0012318798
B41: Wlkpolskie | C41: 0.0013247546
B42: Pomorskie | C42: 0.0014820893
B43: Warm.-Mazur. | C43: 0.0017489414
B44: POLSKA | C44: 0.00175044
B45: Śląskie | C45: 0.0019231143
B46: Opolskie | C46: 0.0020153544
... B51: Zach.-Pomorskie | C51: 0.0046323801

Sheet heatmap
A2: Województwo | B2: 2014 | C2: 2015 | D2: 2016 | E2: 2017 | F2: 2018 | G2: 2019 | H2: 2020 | I2: 2021 | J2: 2022 | K2: 2023
A3: dolnośląskie | B3: =opuszczone!B3/urodzenia!B3 -> 0.0029071907 | C3: =opuszczone!C3/urodzenia!C3 -> 0.0038845304 | D3: =opuszczone!D3/urodzenia!D3 -> 0.0040798485 | E3: =opuszczone!E3/urodzenia!E3 -> 0.0031336925 | F3: =opuszczone!F3/urodzenia!F3 -> 0.0028787334 | G3: =opuszczone!G3/urodzenia!G3 -> 0.0031572691 | H3: =opuszczone!H3/urodzenia!H3 -> 0.0038890833 | I3: =opuszczone!I3/urodzenia!I3 -> 0.0036429127 | ... K3: =opuszczone!K3/urodzenia!K3 -> 0.0060438435
A4: kujawsko-pomorskie | B4: =opuszczone!B4/urodzenia!B4 -> 0.002895512 | C4: =opuszczone!C4/urodzenia!C4 -> 0.0018759771 | D4: =opuszczone!D4/urodzenia!D4 -> 0.0014112903 | E4: =opuszczone!E4/urodzenia!E4 -> 0.0013875598 | F4: =opuszczone!F4/urodzenia!F4 -> 0.0021645022 | G4: =opuszczone!G4/urodzenia!G4 -> 0.0024299452 | H4: =opuszczone!H4/urodzenia!H4 -> 0.0024426803 | I4: =opuszczone!I4/urodzenia!I4 -> 0.0027530074 | ... K4: =opuszczone!K4/urodzenia!K4 -> 0.0024404674
A5: lubelskie | B5: =opuszczone!B5/urodzenia!B5 -> 0.001311277 | C5: =opuszczone!C5/urodzenia!C5 -> 0.0013695156 | D5: =opuszczone!D5/urodzenia!D5 -> 0.0008135869 | E5: =opuszczone!E5/urodzenia!E5 -> 0.00066992057 | F5: =opuszczone!F5/urodzenia!F5 -> 0.00064673399 | G5: =opuszczone!G5/urodzenia!G5 -> 0.00036295759 | H5: =opuszczone!H5/urodzenia!H5 -> 0.0010535655 | I5: =opuszczone!I5/urodzenia!I5 -> 0.00066101797 | ... K5: =opuszczone!K5/urodzenia!K5 -> 0.0014082419
A6: lubuskie | B6: =opuszczone!B6/urodzenia!B6 -> 0.0039110745 | C6: =opuszczone!C6/urodzenia!C6 -> 0.0047770701 | D6: =opuszczone!D6/urodzenia!D6 -> 0.0025683172 | E6: =opuszczone!E6/urodzenia!E6 -> 0.0014563107 | F6: =opuszczone!F6/urodzenia!F6 -> 0.0020069716 | G6: =opuszczone!G6/urodzenia!G6 -> 0.0046480744 | H6: =opuszczone!H6/urodzenia!H6 -> 0.0027797081 | I6: =opuszczone!I6/urodzenia!I6 -> 0.0025236593 | ... K6: =opuszczone!K6/urodzenia!K6 -> 0.0066164025
A7: łódzkie | B7: =opuszczone!B7/urodzenia!B7 -> 0.0022463002 | C7: =opuszczone!C7/urodzenia!C7 -> 0.0025776692 | D7: =opuszczone!D7/urodzenia!D7 -> 0.0034219531 | E7: =opuszczone!E7/urodzenia!E7 -> 0.0031536456 | F7: =opuszczone!F7/urodzenia!F7 -> 0.0013468306 | G7: =opuszczone!G7/urodzenia!G7 -> 0.0013398632 | H7: =opuszczone!H7/urodzenia!H7 -> 0.0011966876 | I7: =opuszczone!I7/urodzenia!I7 -> 0.0018398324 | ... K7: =opuszczone!K7/urodzenia!K7 -> 0.0019532442
A8: małopolskie | B8: =opuszczone!B8/urodzenia!B8 -> 0.0016560621 | C8: =opuszczone!C8/urodzenia!C8 -> 0.00198727 | D8: =opuszczone!D8/urodzenia!D8 -> 0.0013487105 | E8: =opuszczone!E8/urodzenia!E8 -> 0.00099578103 | F8: =opuszczone!F8/urodzenia!F8 -> 0.00081871963 | G8: =opuszczone!G8/urodzenia!G8 -> 0.000920262 | H8: =opuszczone!H8/urodzenia!H8 -> 0.00087669683 | I8: =opuszczone!I8/urodzenia!I8 -> 0.0011416554 | ... K8: =opuszczone!K8/urodzenia!K8 -> 0.0014475868
A9: mazowieckie | B9: =opuszczone!B9/urodzenia!B9 -> 0.0017151158 | C9: =opuszczone!C9/urodzenia!C9 -> 0.0015490114 | D9: =opuszczone!D9/urodzenia!D9 -> 0.00093981808 | E9: =opuszczone!E9/urodzenia!E9 -> 0.0012772838 | F9: =opuszczone!F9/urodzenia!F9 -> 0.00074398611 | G9: =opuszczone!G9/urodzenia!G9 -> 0.0014770801 | H9: =opuszczone!H9/urodzenia!H9 -> 0.0009696927 | I9: =opuszczone!I9/urodzenia!I9 -> 0.0024101746 | ... K9: =opuszczone!K9/urodzenia!K9 -> 0.00028951295
A10: opolskie | B10: =opuszczone!B10/urodzenia!B10 -> 0.0026765972 | C10: =opuszczone!C10/urodzenia!C10 -> 0.0028954035 | D10: =opuszczone!D10/urodzenia!D10 -> 0.0013898541 | E10: =opuszczone!E10/urodzenia!E10 -> 0.0019817241 | F10: =opuszczone!F10/urodzenia!F10 -> 0.0026756631 | G10: =opuszczone!G10/urodzenia!G10 -> 0.0015306723 | H10: =opuszczone!H10/urodzenia!H10 -> 0.0012577034 | I10: =opuszczone!I10/urodzenia!I10 -> 0.0017844887 | ... K10: =opuszczone!K10/urodzenia!K10 -> 0.001457018
A11: podkarpackie | B11: =opuszczone!B11/urodzenia!B11 -> 0.00040094221 | C11: =opuszczone!C11/urodzenia!C11 -> 0.0004599816 | D11: =opuszczone!D11/urodzenia!D11 -> 0.00019741388 | E11: =opuszczone!E11/urodzenia!E11 -> 0.00022802937 | F11: =opuszczone!F11/urodzenia!F11 -> 0.00032508243 | G11: =opuszczone!G11/urodzenia!G11 -> 4.8513074e-05 | H11: =opuszczone!H11/urodzenia!H11 -> 0.00015321757 | I11: =opuszczone!I11/urodzenia!I11 -> 0.00033465335 | ... K11: =opuszczone!K11/urodzenia!K11 -> 0.00020165356
A12: podlaskie | B12: =opuszczone!B12/urodzenia!B12 -> 0.0021760812 | C12: =opuszczone!C12/urodzenia!C12 -> 0.00046189376 | D12: =opuszczone!D12/urodzenia!D12 -> 0.0010551306 | E12: =opuszczone!E12/urodzenia!E12 -> 0.00033184005 | F12: =opuszczone!F12/urodzenia!F12 -> 0.00050890585 | G12: =opuszczone!G12/urodzenia!G12 -> 0 | H12: =opuszczone!H12/urodzenia!H12 -> 0.00028417164 | I12: =opuszczone!I12/urodzenia!I12 -> 0.0014833861 | ... K12: =opuszczone!K12/urodzenia!K12 -> 0.0025362319
A13: pomorskie | B13: =opuszczone!B13/urodzenia!B13 -> 0.0020316944 | C13: =opuszczone!C13/urodzenia!C13 -> 0.0016262807 | D13: =opuszczone!D13/urodzenia!D13 -> 0.0013145177 | E13: =opuszczone!E13/urodzenia!E13 -> 0.0015647174 | F13: =opuszczone!F13/urodzenia!F13 -> 0.0011698996 | G13: =opuszczone!G13/urodzenia!G13 -> 0.00088322261 | H13: =opuszczone!H13/urodzenia!H13 -> 0.0013472137 | I13: =opuszczone!I13/urodzenia!I13 -> 0.0014570388 | ... K13: =opuszczone!K13/urodzenia!K13 -> 0.0015685454
A14: śląskie | B14: =opuszczone!B14/urodzenia!B14 -> 0.002340824 | C14: =opuszczone!C14/urodzenia!C14 -> 0.0024512749 | D14: =opuszczone!D14/urodzenia!D14 -> 0.0017313181 | E14: =opuszczone!E14/urodzenia!E14 -> 0.0010673545 | F14: =opuszczone!F14/urodzenia!F14 -> 0.0013146774 | G14: =opuszczone!G14/urodzenia!G14 -> 0.0012343241 | H14: =opuszczone!H14/urodzenia!H14 -> 0.0020969306 | I14: =opuszczone!I14/urodzenia!I14 -> 0.0018712575 | ... K14: =opuszczone!K14/urodzenia!K14 -> 0.0027495387
... A19: POLSKA | B19: =opuszczone!B19/urodzenia!B19 -> 0.0020577887 | C19: =opuszczone!C19/urodzenia!C19 -> 0.0020633184 | D19: =opuszczone!D19/urodzenia!D19 -> 0.0018547731 | E19: =opuszczone!E19/urodzenia!E19 -> 0.0013707081 | F19: =opuszczone!F19/urodzenia!F19 -> 0.001215937 | G19: =opuszczone!G19/urodzenia!G19 -> 0.0014055057 | H19: =opuszczone!H19/urodzenia!H19 -> 0.0014241125 | I19: =opuszczone!I19/urodzenia!I19 -> 0.0019396038 | ... K19: =opuszczone!K19/urodzenia!K19 -> 0.0023013312

Sheet 1_na
A2: Województwo | B2: 2014 | C2: 2015 | D2: 2016 | E2: 2017 | F2: 2018 | G2: 2019 | H2: 2020 | I2: 2021 | J2: 2022 | K2: 2023
A3: dolnośląskie | B3: =1/(opuszczone!B3/urodzenia!B3) -> 343.97468 | C3: =1/(opuszczone!C3/urodzenia!C3) -> 257.43137 | D3: =1/(opuszczone!D3/urodzenia!D3) -> 245.10714 | E3: =1/(opuszczone!E3/urodzenia!E3) -> 319.11236 | F3: =1/(opuszczone!F3/urodzenia!F3) -> 347.375 | G3: =1/(opuszczone!G3/urodzenia!G3) -> 316.72941 | H3: =1/(opuszczone!H3/urodzenia!H3) -> 257.13 | I3: =1/(opuszczone!I3/urodzenia!I3) -> 274.50562 | ... K3: =1/(opuszczone!K3/urodzenia!K3) -> 165.45763
A4: kujawsko-pomorskie | B4: =1/(opuszczone!B4/urodzenia!B4) -> 345.36207 | C4: =1/(opuszczone!C4/urodzenia!C4) -> 533.05556 | D4: =1/(opuszczone!D4/urodzenia!D4) -> 708.57143 | E4: =1/(opuszczone!E4/urodzenia!E4) -> 720.68966 | F4: =1/(opuszczone!F4/urodzenia!F4) -> 462 | G4: =1/(opuszczone!G4/urodzenia!G4) -> 411.53191 | H4: =1/(opuszczone!H4/urodzenia!H4) -> 409.38636 | I4: =1/(opuszczone!I4/urodzenia!I4) -> 363.23913 | ... K4: =1/(opuszczone!K4/urodzenia!K4) -> 409.75758
A5: lubelskie | B5: =1/(opuszczone!B5/urodzenia!B5) -> 762.61538 | C5: =1/(opuszczone!C5/urodzenia!C5) -> 730.18519 | D5: =1/(opuszczone!D5/urodzenia!D5) -> 1229.125 | E5: =1/(opuszczone!E5/urodzenia!E5) -> 1492.7143 | F5: =1/(opuszczone!F5/urodzenia!F5) -> 1546.2308 | G5: =1/(opuszczone!G5/urodzenia!G5) -> 2755.1429 | H5: =1/(opuszczone!H5/urodzenia!H5) -> 949.15789 | I5: =1/(opuszczone!I5/urodzenia!I5) -> 1512.8182 | ... K5: =1/(opuszczone!K5/urodzenia!K5) -> 710.10526
A6: lubuskie | B6: =1/(opuszczone!B6/urodzenia!B6) -> 255.68421 | C6: =1/(opuszczone!C6/urodzenia!C6) -> 209.33333 | D6: =1/(opuszczone!D6/urodzenia!D6) -> 389.36 | E6: =1/(opuszczone!E6/urodzenia!E6) -> 686.66667 | F6: =1/(opuszczone!F6/urodzenia!F6) -> 498.26316 | G6: =1/(opuszczone!G6/urodzenia!G6) -> 215.14286 | H6: =1/(opuszczone!H6/urodzenia!H6) -> 359.75 | I6: =1/(opuszczone!I6/urodzenia!I6) -> 396.25 | ... K6: =1/(opuszczone!K6/urodzenia!K6) -> 151.13953
A7: łódzkie | B7: =1/(opuszczone!B7/urodzenia!B7) -> 445.17647 | C7: =1/(opuszczone!C7/urodzenia!C7) -> 387.94737 | D7: =1/(opuszczone!D7/urodzenia!D7) -> 292.23077 | E7: =1/(opuszczone!E7/urodzenia!E7) -> 317.09333 | F7: =1/(opuszczone!F7/urodzenia!F7) -> 742.48387 | G7: =1/(opuszczone!G7/urodzenia!G7) -> 746.34483 | H7: =1/(opuszczone!H7/urodzenia!H7) -> 835.64 | I7: =1/(opuszczone!I7/urodzenia!I7) -> 543.52778 | ... K7: =1/(opuszczone!K7/urodzenia!K7) -> 511.96875
A8: małopolskie | B8: =1/(opuszczone!B8/urodzenia!B8) -> 603.84211 | C8: =1/(opuszczone!C8/urodzenia!C8) -> 503.2029 | D8: =1/(opuszczone!D8/urodzenia!D8) -> 741.44898 | E8: =1/(opuszczone!E8/urodzenia!E8) -> 1004.2368 | F8: =1/(opuszczone!F8/urodzenia!F8) -> 1221.4194 | G8: =1/(opuszczone!G8/urodzenia!G8) -> 1086.6471 | H8: =1/(opuszczone!H8/urodzenia!H8) -> 1140.6452 | I8: =1/(opuszczone!I8/urodzenia!I8) -> 875.92105 | ... K8: =1/(opuszczone!K8/urodzenia!K8) -> 690.80488
A9: mazowieckie | B9: =1/(opuszczone!B9/urodzenia!B9) -> 583.05102 | C9: =1/(opuszczone!C9/urodzenia!C9) -> 645.57303 | D9: =1/(opuszczone!D9/urodzenia!D9) -> 1064.0357 | E9: =1/(opuszczone!E9/urodzenia!E9) -> 782.91139 | F9: =1/(opuszczone!F9/urodzenia!F9) -> 1344.1111 | G9: =1/(opuszczone!G9/urodzenia!G9) -> 677.01136 | H9: =1/(opuszczone!H9/urodzenia!H9) -> 1031.2545 | I9: =1/(opuszczone!I9/urodzenia!I9) -> 414.90769 | ... K9: =1/(opuszczone!K9/urodzenia!K9) -> 3454.0769
A10: opolskie | B10: =1/(opuszczone!B10/urodzenia!B10) -> 373.6087 | C10: =1/(opuszczone!C10/urodzenia!C10) -> 345.375 | D10: =1/(opuszczone!D10/urodzenia!D10) -> 719.5 | E10: =1/(opuszczone!E10/urodzenia!E10) -> 504.61111 | F10: =1/(opuszczone!F10/urodzenia!F10) -> 373.73913 | G10: =1/(opuszczone!G10/urodzenia!G10) -> 653.30769 | H10: =1/(opuszczone!H10/urodzenia!H10) -> 795.1 | I10: =1/(opuszczone!I10/urodzenia!I10) -> 560.38462 | ... K10: =1/(opuszczone!K10/urodzenia!K10) -> 686.33333
A11: podkarpackie | B11: =1/(opuszczone!B11/urodzenia!B11) -> 2494.125 | C11: =1/(opuszczone!C11/urodzenia!C11) -> 2174 | D11: =1/(opuszczone!D11/urodzenia!D11) -> 5065.5 | E11: =1/(opuszczone!E11/urodzenia!E11) -> 4385.4 | F11: =1/(opuszczone!F11/urodzenia!F11) -> 3076.1429 | G11: =1/(opuszczone!G11/urodzenia!G11) -> 20613 | H11: =1/(opuszczone!H11/urodzenia!H11) -> 6526.6667 | I11: =1/(opuszczone!I11/urodzenia!I11) -> 2988.1667 | ... K11: =1/(opuszczone!K11/urodzenia!K11) -> 4959
A12: podlaskie | B12: =1/(opuszczone!B12/urodzenia!B12) -> 459.54167 | C12: =1/(opuszczone!C12/urodzenia!C12) -> 2165 | D12: =1/(opuszczone!D12/urodzenia!D12) -> 947.75 | E12: =1/(opuszczone!E12/urodzenia!E12) -> 3013.5 | F12: =1/(opuszczone!F12/urodzenia!F12) -> 1965 | G12: =1/(opuszczone!G12/urodzenia!G12) -> #DIV/0! | H12: =1/(opuszczone!H12/urodzenia!H12) -> 3519 | I12: =1/(opuszczone!I12/urodzenia!I12) -> 674.13333 | ... K12: =1/(opuszczone!K12/urodzenia!K12) -> 394.28571
A13: pomorskie | B13: =1/(opuszczone!B13/urodzenia!B13) -> 492.2 | C13: =1/(opuszczone!C13/urodzenia!C13) -> 614.9 | D13: =1/(opuszczone!D13/urodzenia!D13) -> 760.73529 | E13: =1/(opuszczone!E13/urodzenia!E13) -> 639.09302 | F13: =1/(opuszczone!F13/urodzenia!F13) -> 854.77419 | G13: =1/(opuszczone!G13/urodzenia!G13) -> 1132.2174 | H13: =1/(opuszczone!H13/urodzenia!H13) -> 742.27273 | I13: =1/(opuszczone!I13/urodzenia!I13) -> 686.32353 | ... K13: =1/(opuszczone!K13/urodzenia!K13) -> 637.53333
A14: śląskie | B14: =1/(opuszczone!B14/urodzenia!B14) -> 427.2 | C14: =1/(opuszczone!C14/urodzenia!C14) -> 407.95098 | D14: =1/(opuszczone!D14/urodzenia!D14) -> 577.59459 | E14: =1/(opuszczone!E14/urodzenia!E14) -> 936.89583 | F14: =1/(opuszczone!F14/urodzenia!F14) -> 760.64286 | G14: =1/(opuszczone!G14/urodzenia!G14) -> 810.16 | H14: =1/(opuszczone!H14/urodzenia!H14) -> 476.8875 | I14: =1/(opuszczone!I14/urodzenia!I14) -> 534.4 | ... K14: =1/(opuszczone!K14/urodzenia!K14) -> 363.69737
... A18: zachodniopomorskie | B18: =1/(opuszczone!B18/urodzenia!B18) -> 250.48387 | C18: =1/(opuszczone!C18/urodzenia!C18) -> 215.54286 | D18: =1/(opuszczone!D18/urodzenia!D18) -> 110.47887 | E18: =1/(opuszczone!E18/urodzenia!E18) -> 542.53333 | F18: =1/(opuszczone!F18/urodzenia!F18) -> 341.97778 | G18: =1/(opuszczone!G18/urodzenia!G18) -> 310.93617 | H18: =1/(opuszczone!H18/urodzenia!H18) -> 722.63158 | I18: =1/(opuszczone!I18/urodzenia!I18) -> 156.70732 | ... K18: =1/(opuszczone!K18/urodzenia!K18) -> 130.5875
A19: POLSKA | B19: =opuszczone!B19/urodzenia!B19 -> 0.0020577887 | C19: =opuszczone!C19/urodzenia!C19 -> 0.0020633184 | D19: =opuszczone!D19/urodzenia!D19 -> 0.0018547731 | E19: =opuszczone!E19/urodzenia!E19 -> 0.0013707081 | F19: =opuszczone!F19/urodzenia!F19 -> 0.001215937 | G19: =opuszczone!G19/urodzenia!G19 -> 0.0014055057 | H19: =opuszczone!H19/urodzenia!H19 -> 0.0014241125 | I19: =opuszczone!I19/urodzenia!I19 -> 0.0019396038 | ... K19: =opuszczone!K19/urodzenia!K19 -> 0.0023013312
A20: 1 dziecko na…. | B20: =1/B19 -> 485.95855 | C20: =1/C19 -> 484.65617 | D20: =1/D19 -> 539.14951 | E20: =1/E19 -> 729.54991 | F20: =1/F19 -> 822.41102 | G20: =1/G19 -> 711.48767 | H20: =1/H19 -> 702.1917 | I20: =1/I19 -> 515.56921 | ... K20: =1/K19 -> 434.5311

Sheet Procenty
A2: Województwo | B2: 2014 | C2: 2015 | D2: 2016 | E2: 2017 | F2: 2018 | G2: 2019 | H2: 2020 | I2: 2021 | J2: 2022 | K2: 2023
A3: dolnośląskie | B3: =opuszczone!B3/urodzenia!B3 -> 0.0029071907 | C3: =opuszczone!C3/urodzenia!C3 -> 0.0038845304 | D3: =opuszczone!D3/urodzenia!D3 -> 0.0040798485 | E3: =opuszczone!E3/urodzenia!E3 -> 0.0031336925 | F3: =opuszczone!F3/urodzenia!F3 -> 0.0028787334 | G3: =opuszczone!G3/urodzenia!G3 -> 0.0031572691 | H3: =opuszczone!H3/urodzenia!H3 -> 0.0038890833 | I3: =opuszczone!I3/urodzenia!I3 -> 0.0036429127 | ... K3: =opuszczone!K3/urodzenia!K3 -> 0.0060438435 | L3: =AVERAGE(B3:K3) -> 0.0037797154 | N3: Podkarpackie | O3: =L11 -> 0.00024089684
A4: kujawsko-pomorskie | B4: =opuszczone!B4/urodzenia!B4 -> 0.002895512 | C4: =opuszczone!C4/urodzenia!C4 -> 0.0018759771 | D4: =opuszczone!D4/urodzenia!D4 -> 0.0014112903 | E4: =opuszczone!E4/urodzenia!E4 -> 0.0013875598 | F4: =opuszczone!F4/urodzenia!F4 -> 0.0021645022 | G4: =opuszczone!G4/urodzenia!G4 -> 0.0024299452 | H4: =opuszczone!H4/urodzenia!H4 -> 0.0024426803 | I4: =opuszczone!I4/urodzenia!I4 -> 0.0027530074 | ... K4: =opuszczone!K4/urodzenia!K4 -> 0.0024404674 | L4: =AVERAGE(B4:K4) -> 0.0022655998 | N4: Lubelskie | O4: =L5 -> 0.00090196452
A5: lubelskie | B5: =opuszczone!B5/urodzenia!B5 -> 0.001311277 | C5: =opuszczone!C5/urodzenia!C5 -> 0.0013695156 | D5: =opuszczone!D5/urodzenia!D5 -> 0.0008135869 | E5: =opuszczone!E5/urodzenia!E5 -> 0.00066992057 | F5: =opuszczone!F5/urodzenia!F5 -> 0.00064673399 | G5: =opuszczone!G5/urodzenia!G5 -> 0.00036295759 | H5: =opuszczone!H5/urodzenia!H5 -> 0.0010535655 | I5: =opuszczone!I5/urodzenia!I5 -> 0.00066101797 | ... K5: =opuszczone!K5/urodzenia!K5 -> 0.0014082419 | L5: =AVERAGE(B5:K5) -> 0.00090196452 | N5: Świętokrz. | O5: =L15 -> 0.00094721864
A6: lubuskie | B6: =opuszczone!B6/urodzenia!B6 -> 0.0039110745 | C6: =opuszczone!C6/urodzenia!C6 -> 0.0047770701 | D6: =opuszczone!D6/urodzenia!D6 -> 0.0025683172 | E6: =opuszczone!E6/urodzenia!E6 -> 0.0014563107 | F6: =opuszczone!F6/urodzenia!F6 -> 0.0020069716 | G6: =opuszczone!G6/urodzenia!G6 -> 0.0046480744 | H6: =opuszczone!H6/urodzenia!H6 -> 0.0027797081 | I6: =opuszczone!I6/urodzenia!I6 -> 0.0025236593 | ... K6: =opuszczone!K6/urodzenia!K6 -> 0.0066164025 | L6: =AVERAGE(B6:K6) -> 0.003664725 | N6: Podlaskie | O6: =L12 -> 0.0010586275
A7: łódzkie | B7: =opuszczone!B7/urodzenia!B7 -> 0.0022463002 | C7: =opuszczone!C7/urodzenia!C7 -> 0.0025776692 | D7: =opuszczone!D7/urodzenia!D7 -> 0.0034219531 | E7: =opuszczone!E7/urodzenia!E7 -> 0.0031536456 | F7: =opuszczone!F7/urodzenia!F7 -> 0.0013468306 | G7: =opuszczone!G7/urodzenia!G7 -> 0.0013398632 | H7: =opuszczone!H7/urodzenia!H7 -> 0.0011966876 | I7: =opuszczone!I7/urodzenia!I7 -> 0.0018398324 | ... K7: =opuszczone!K7/urodzenia!K7 -> 0.0019532442 | L7: =AVERAGE(B7:K7) -> 0.0020232223 | N7: Mazowieckie | O7: =L9 -> 0.0011670189
A8: małopolskie | B8: =opuszczone!B8/urodzenia!B8 -> 0.0016560621 | C8: =opuszczone!C8/urodzenia!C8 -> 0.00198727 | D8: =opuszczone!D8/urodzenia!D8 -> 0.0013487105 | E8: =opuszczone!E8/urodzenia!E8 -> 0.00099578103 | F8: =opuszczone!F8/urodzenia!F8 -> 0.00081871963 | G8: =opuszczone!G8/urodzenia!G8 -> 0.000920262 | H8: =opuszczone!H8/urodzenia!H8 -> 0.00087669683 | I8: =opuszczone!I8/urodzenia!I8 -> 0.0011416554 | ... K8: =opuszczone!K8/urodzenia!K8 -> 0.0014475868 | L8: =AVERAGE(B8:K8) -> 0.0012318798 | N8: Małopolsk. | O8: =L8 -> 0.0012318798
A9: mazowieckie | B9: =opuszczone!B9/urodzenia!B9 -> 0.0017151158 | C9: =opuszczone!C9/urodzenia!C9 -> 0.0015490114 | D9: =opuszczone!D9/urodzenia!D9 -> 0.00093981808 | E9: =opuszczone!E9/urodzenia!E9 -> 0.0012772838 | F9: =opuszczone!F9/urodzenia!F9 -> 0.00074398611 | G9: =opuszczone!G9/urodzenia!G9 -> 0.0014770801 | H9: =opuszczone!H9/urodzenia!H9 -> 0.0009696927 | I9: =opuszczone!I9/urodzenia!I9 -> 0.0024101746 | ... K9: =opuszczone!K9/urodzenia!K9 -> 0.00028951295 | L9: =AVERAGE(B9:K9) -> 0.0011670189 | N9: Wlkpolskie | O9: =L17 -> 0.0013247546
A10: opolskie | B10: =opuszczone!B10/urodzenia!B10 -> 0.0026765972 | C10: =opuszczone!C10/urodzenia!C10 -> 0.0028954035 | D10: =opuszczone!D10/urodzenia!D10 -> 0.0013898541 | E10: =opuszczone!E10/urodzenia!E10 -> 0.0019817241 | F10: =opuszczone!F10/urodzenia!F10 -> 0.0026756631 | G10: =opuszczone!G10/urodzenia!G10 -> 0.0015306723 | H10: =opuszczone!H10/urodzenia!H10 -> 0.0012577034 | I10: =opuszczone!I10/urodzenia!I10 -> 0.0017844887 | ... K10: =opuszczone!K10/urodzenia!K10 -> 0.001457018 | L10: =AVERAGE(B10:K10) -> 0.0020153544 | N10: Pomorskie | O10: =L13 -> 0.0014820893
A11: podkarpackie | B11: =opuszczone!B11/urodzenia!B11 -> 0.00040094221 | C11: =opuszczone!C11/urodzenia!C11 -> 0.0004599816 | D11: =opuszczone!D11/urodzenia!D11 -> 0.00019741388 | E11: =opuszczone!E11/urodzenia!E11 -> 0.00022802937 | F11: =opuszczone!F11/urodzenia!F11 -> 0.00032508243 | G11: =opuszczone!G11/urodzenia!G11 -> 4.8513074e-05 | H11: =opuszczone!H11/urodzenia!H11 -> 0.00015321757 | I11: =opuszczone!I11/urodzenia!I11 -> 0.00033465335 | ... K11: =opuszczone!K11/urodzenia!K11 -> 0.00020165356 | L11: =AVERAGE(B11:K11) -> 0.00024089684 | N11: Warm.-Mazur. | O11: =L16 -> 0.0017489414
A12: podlaskie | B12: =opuszczone!B12/urodzenia!B12 -> 0.0021760812 | C12: =opuszczone!C12/urodzenia!C12 -> 0.00046189376 | D12: =opuszczone!D12/urodzenia!D12 -> 0.0010551306 | E12: =opuszczone!E12/urodzenia!E12 -> 0.00033184005 | F12: =opuszczone!F12/urodzenia!F12 -> 0.00050890585 | G12: =opuszczone!G12/urodzenia!G12 -> 0 | H12: =opuszczone!H12/urodzenia!H12 -> 0.00028417164 | I12: =opuszczone!I12/urodzenia!I12 -> 0.0014833861 | ... K12: =opuszczone!K12/urodzenia!K12 -> 0.0025362319 | L12: =AVERAGE(B12:K12) -> 0.0010586275 | N12: POLSKA | O12: =L19 -> 0.00175044
A13: pomorskie | B13: =opuszczone!B13/urodzenia!B13 -> 0.0020316944 | C13: =opuszczone!C13/urodzenia!C13 -> 0.0016262807 | D13: =opuszczone!D13/urodzenia!D13 -> 0.0013145177 | E13: =opuszczone!E13/urodzenia!E13 -> 0.0015647174 | F13: =opuszczone!F13/urodzenia!F13 -> 0.0011698996 | G13: =opuszczone!G13/urodzenia!G13 -> 0.00088322261 | H13: =opuszczone!H13/urodzenia!H13 -> 0.0013472137 | I13: =opuszczone!I13/urodzenia!I13 -> 0.0014570388 | ... K13: =opuszczone!K13/urodzenia!K13 -> 0.0015685454 | L13: =AVERAGE(B13:K13) -> 0.0014820893 | N13: Śląskie | O13: =L14 -> 0.0019231143
A14: śląskie | B14: =opuszczone!B14/urodzenia!B14 -> 0.002340824 | C14: =opuszczone!C14/urodzenia!C14 -> 0.0024512749 | D14: =opuszczone!D14/urodzenia!D14 -> 0.0017313181 | E14: =opuszczone!E14/urodzenia!E14 -> 0.0010673545 | F14: =opuszczone!F14/urodzenia!F14 -> 0.0013146774 | G14: =opuszczone!G14/urodzenia!G14 -> 0.0012343241 | H14: =opuszczone!H14/urodzenia!H14 -> 0.0020969306 | I14: =opuszczone!I14/urodzenia!I14 -> 0.0018712575 | ... K14: =opuszczone!K14/urodzenia!K14 -> 0.0027495387 | L14: =AVERAGE(B14:K14) -> 0.0019231143 | N14: Opolskie | O14: =L10 -> 0.0020153544
A15: świętokrzyskie | B15: =opuszczone!B15/urodzenia!B15 -> 0.0018594273 | C15: =opuszczone!C15/urodzenia!C15 -> 0.00056716136 | D15: =opuszczone!D15/urodzenia!D15 -> 0.00075400566 | E15: =opuszczone!E15/urodzenia!E15 -> 0.00091617041 | F15: =opuszczone!F15/urodzenia!F15 -> 0.00055964929 | G15: =opuszczone!G15/urodzenia!G15 -> 0.00088062622 | H15: =opuszczone!H15/urodzenia!H15 -> 0.0010539629 | I15: =opuszczone!I15/urodzenia!I15 -> 0.00091774693 | ... K15: =opuszczone!K15/urodzenia!K15 -> 0.0011052777 | L15: =AVERAGE(B15:K15) -> 0.00094721864 | N15: Łódzkie | O15: =L7 -> 0.0020232223
A16: warmińsko-mazurskie | B16: =opuszczone!B16/urodzenia!B16 -> 0.0027224531 | C16: =opuszczone!C16/urodzenia!C16 -> 0.0025912659 | D16: =opuszczone!D16/urodzenia!D16 -> 0.001413375 | E16: =opuszczone!E16/urodzenia!E16 -> 0.0013073694 | F16: =opuszczone!F16/urodzenia!F16 -> 0.0010959304 | G16: =opuszczone!G16/urodzenia!G16 -> 0.0012392533 | H16: =opuszczone!H16/urodzenia!H16 -> 0.00049554014 | I16: =opuszczone!I16/urodzenia!I16 -> 0.00085397096 | ... K16: =opuszczone!K16/urodzenia!K16 -> 0.0029456816 | L16: =AVERAGE(B16:K16) -> 0.0017489414 | N16: Kujaw.-Pomorsk. | O16: =L4 -> 0.0022655998
A17: wielkopolskie | B17: =opuszczone!B17/urodzenia!B17 -> 0.0010810811 | C17: =opuszczone!C17/urodzenia!C17 -> 0.0012785637 | D17: =opuszczone!D17/urodzenia!D17 -> 0.0010461072 | E17: =opuszczone!E17/urodzenia!E17 -> 0.00086526576 | F17: =opuszczone!F17/urodzenia!F17 -> 0.00054154417 | G17: =opuszczone!G17/urodzenia!G17 -> 0.00096105075 | H17: =opuszczone!H17/urodzenia!H17 -> 0.0012261391 | I17: =opuszczone!I17/urodzenia!I17 -> 0.0012234423 | ... K17: =opuszczone!K17/urodzenia!K17 -> 0.0027604242 | L17: =AVERAGE(B17:K17) -> 0.0013247546 | N17: Lubuskie | O17: =L6 -> 0.003664725
A18: zachodniopomorskie | B18: =opuszczone!B18/urodzenia!B18 -> 0.003992273 | C18: =opuszczone!C18/urodzenia!C18 -> 0.0046394486 | D18: =opuszczone!D18/urodzenia!D18 -> 0.0090515043 | E18: =opuszczone!E18/urodzenia!E18 -> 0.0018432047 | F18: =opuszczone!F18/urodzenia!F18 -> 0.0029241666 | G18: =opuszczone!G18/urodzenia!G18 -> 0.0032160942 | H18: =opuszczone!H18/urodzenia!H18 -> 0.001383831 | I18: =opuszczone!I18/urodzenia!I18 -> 0.006381323 | ... K18: =opuszczone!K18/urodzenia!K18 -> 0.0076577008 | L18: =AVERAGE(B18:K18) -> 0.0046323801 | N18: Dolnośląsk. | O18: =L3 -> 0.0037797154
A19: POLSKA | B19: =opuszczone!B19/urodzenia!B19 -> 0.0020577887 | C19: =opuszczone!C19/urodzenia!C19 -> 0.0020633184 | D19: =opuszczone!D19/urodzenia!D19 -> 0.0018547731 | E19: =opuszczone!E19/urodzenia!E19 -> 0.0013707081 | F19: =opuszczone!F19/urodzenia!F19 -> 0.001215937 | G19: =opuszczone!G19/urodzenia!G19 -> 0.0014055057 | H19: =opuszczone!H19/urodzenia!H19 -> 0.0014241125 | I19: =opuszczone!I19/urodzenia!I19 -> 0.0019396038 | ... K19: =opuszczone!K19/urodzenia!K19 -> 0.0023013312 | L19: =AVERAGE(B19:K19) -> 0.00175044 | N19: Zach.-Pomorskie | O19: =L18 -> 0.0046323801
A20: 1 dziecko na…. | B20: =1/B19 -> 485.95855 | C20: =1/C19 -> 484.65617 | D20: =1/D19 -> 539.14951 | E20: =1/E19 -> 729.54991 | F20: =1/F19 -> 822.41102 | G20: =1/G19 -> 711.48767 | H20: =1/H19 -> 702.1917 | I20: =1/I19 -> 515.56921 | ... K20: =1/K19 -> 434.5311

Sheet inne_dane
B2: Analiza GUS "Oświata i wychowanie w roku szkolnym 2022/2023"
B3: Liczba uczniów w podstawówkach
B4: 3100000
B5: Liczba szkół podstawowych
B6: 14100
B8: Średnia liczba uczniów w podstawówce
B9: =B4/B6 -> 219.85816
B11: =opuszczone!K19/inne_dane!B9 -> 2.8518387

Sheet dane_urodzenia
A1: Urodzenia w Polsce
A2: Województwo | B2: 2014 | C2: 2015 | D2: 2016 | E2: 2017 | F2: 2018 | G2: 2019 | H2: 2020 | I2: 2021 | J2: 2022 | K2: 2023
A3: dolnośląskie | B3: 27174 | C3: 26258 | D3: 27452 | E3: 28401 | F3: 27790 | G3: 26922 | H3: 25713 | I3: 24431 | J3: 22727 | K3: 19524
A4: kujawsko-pomorskie | B4: 20031 | C4: 19190 | D4: 19840 | E4: 20900 | F4: 19866 | G4: 19342 | H4: 18013 | I4: 16709 | J4: 15061 | K4: 13522
A5: lubelskie | B5: 19828 | C5: 19715 | D5: 19666 | E5: 20898 | F5: 20101 | G5: 19286 | H5: 18034 | I5: 16641 | J5: 15218 | K5: 13492
A6: lubuskie | B6: 9716 | C6: 9420 | D6: 9734 | E6: 10300 | F6: 9467 | G6: 9036 | H6: 8634 | I6: 7925 | J6: 7090 | K6: 6499
A7: łódzkie | B7: 22704 | C7: 22113 | D7: 22794 | E7: 23782 | F7: 23017 | G7: 21644 | H7: 20891 | I7: 19567 | J7: 18163 | K7: 16383
A8: małopolskie | B8: 34419 | C8: 34721 | D8: 36331 | E8: 38161 | F8: 37864 | G8: 36946 | H8: 35360 | I8: 33285 | J8: 31082 | K8: 28323
A9: mazowieckie | B9: 57139 | C9: 57456 | D9: 59586 | E9: 61850 | F9: 60485 | G9: 59577 | H9: 56719 | I9: 53938 | J9: 50249 | K9: 44903
A10: opolskie | B10: 8593 | C10: 8289 | D10: 8634 | E10: 9083 | F10: 8596 | G10: 8493 | H10: 7951 | I10: 7285 | J10: 6788 | K10: 6177
A11: podkarpackie | B11: 19953 | C11: 19566 | D11: 20262 | E11: 21927 | F11: 21533 | G11: 20613 | H11: 19580 | I11: 17929 | J11: 16812 | K11: 14877
A12: podlaskie | B12: 11029 | C12: 10825 | D12: 11373 | E12: 12054 | F12: 11790 | G12: 11342 | H12: 10557 | I12: 10112 | J12: 9150 | K12: 8280
A13: pomorskie | B13: 24610 | C13: 24596 | D13: 25865 | E13: 27481 | F13: 26498 | G13: 26041 | H13: 24495 | I13: 23335 | J13: 20993 | K13: 19126
... A19: POLSKA | B19: 375160 | C19: 369308 | D19: 382257 | E19: 401982 | F19: 388178 | G19: 374954 | H19: 355309 | I19: 331511 | J19: 305132 | K19: 272451

Sheet dane_opuszczone
A1: Noworodki pozostawione
A2: Województwo | B2: 2014 | C2: 2015 | D2: 2016 | E2: 2017 | F2: 2018 | G2: 2019 | H2: 2020 | I2: 2021 | J2: 2022 | K2: 2023
A3: dolnośląskie | B3: 79 | C3: 102 | D3: 112 | E3: 89 | F3: 80 | G3: 85 | H3: 100 | I3: 89 | J3: 95 | K3: 118
A4: kujawsko-pomorskie | B4: 58 | C4: 36 | D4: 28 | E4: 29 | F4: 43 | G4: 47 | H4: 44 | I4: 46 | J4: 43 | K4: 33
A5: lubelskie | B5: 26 | C5: 27 | D5: 16 | E5: 14 | F5: 13 | G5: 7 | H5: 19 | I5: 11 | J5: 11 | K5: 19
A6: lubuskie | B6: 38 | C6: 45 | D6: 25 | E6: 15 | F6: 19 | G6: 42 | H6: 24 | I6: 20 | J6: 38 | K6: 43
A7: łódzkie | B7: 51 | C7: 57 | D7: 78 | E7: 75 | F7: 31 | G7: 29 | H7: 25 | I7: 36 | J7: 21 | K7: 32
A8: małopolskie | B8: 57 | C8: 69 | D8: 49 | E8: 38 | F8: 31 | G8: 34 | H8: 31 | I8: 38 | J8: 35 | K8: 41
A9: mazowieckie | B9: 98 | C9: 89 | D9: 56 | E9: 79 | F9: 45 | G9: 88 | H9: 55 | I9: 130 | J9: 15 | K9: 13
A10: opolskie | B10: 23 | C10: 24 | D10: 12 | E10: 18 | F10: 23 | G10: 13 | H10: 10 | I10: 13 | J10: 17 | K10: 9
A11: podkarpackie | B11: 8 | C11: 9 | D11: 4 | E11: 5 | F11: 7 | G11: 1 | H11: 3 | I11: 6 | J11: 1 | K11: 3
A12: podlaskie | B12: 24 | C12: 5 | D12: 12 | E12: 4 | F12: 6 | G12: 0 | H12: 3 | I12: 15 | J12: 16 | K12: 21
A13: pomorskie | B13: 50 | C13: 40 | D13: 34 | E13: 43 | F13: 31 | G13: 23 | H13: 33 | I13: 34 | J13: 39 | K13: 30
... A18: zachodniopomorskie | B18: 62 | C18: 70 | D18: 142 | E18: 30 | F18: 45 | G18: 47 | H18: 19 | I18: 82 | J18: 61 | K18: 80
A19: Polska | B19: =SUM(B3:B18) -> 772 | C19: =SUM(C3:C18) -> 762 | D19: =SUM(D3:D18) -> 709 | E19: =SUM(E3:E18) -> 551 | F19: =SUM(F3:F18) -> 472 | G19: =SUM(G3:G18) -> 527 | H19: =SUM(H3:H18) -> 506 | I19: =SUM(I3:I18) -> 643 | ... K19: =SUM(K3:K18) -> 627

Sheet urodzenia
A1: Urodzenia w Polsce
A2: Województwo | B2: 2014 | C2: 2015 | D2: 2016 | E2: 2017 | F2: 2018 | G2: 2019 | H2: 2020 | I2: 2021 | J2: 2022 | K2: 2023
A3: dolnośląskie | B3: 27174 | C3: 26258 | D3: 27452 | E3: 28401 | F3: 27790 | G3: 26922 | H3: 25713 | I3: 24431 | J3: 22727 | K3: 19524 | L3: =SUM(B3:K3) -> 256392 | M3: =L3/$L$19 -> 0.072096331
A4: kujawsko-pomorskie | B4: 20031 | C4: 19190 | D4: 19840 | E4: 20900 | F4: 19866 | G4: 19342 | H4: 18013 | I4: 16709 | J4: 15061 | K4: 13522 | L4: =SUM(B4:K4) -> 182474 | M4: =L4/$L$19 -> 0.051310906
A5: lubelskie | B5: 19828 | C5: 19715 | D5: 19666 | E5: 20898 | F5: 20101 | G5: 19286 | H5: 18034 | I5: 16641 | J5: 15218 | K5: 13492 | L5: =SUM(B5:K5) -> 182879 | M5: =L5/$L$19 -> 0.051424791
A6: lubuskie | B6: 9716 | C6: 9420 | D6: 9734 | E6: 10300 | F6: 9467 | G6: 9036 | H6: 8634 | I6: 7925 | J6: 7090 | K6: 6499 | L6: =SUM(B6:K6) -> 87821 | M6: =L6/$L$19 -> 0.024694889
A7: łódzkie | B7: 22704 | C7: 22113 | D7: 22794 | E7: 23782 | F7: 23017 | G7: 21644 | H7: 20891 | I7: 19567 | J7: 18163 | K7: 16383 | L7: =SUM(B7:K7) -> 211058 | M7: =L7/$L$19 -> 0.059348605
A8: małopolskie | B8: 34419 | C8: 34721 | D8: 36331 | E8: 38161 | F8: 37864 | G8: 36946 | H8: 35360 | I8: 33285 | J8: 31082 | K8: 28323 | L8: =SUM(B8:K8) -> 346492 | M8: =L8/$L$19 -> 0.097432065
A9: mazowieckie | B9: 57139 | C9: 57456 | D9: 59586 | E9: 61850 | F9: 60485 | G9: 59577 | H9: 56719 | I9: 53938 | J9: 50249 | K9: 44903 | L9: =SUM(B9:K9) -> 561902 | M9: =L9/$L$19 -> 0.15800443
A10: opolskie | B10: 8593 | C10: 8289 | D10: 8634 | E10: 9083 | F10: 8596 | G10: 8493 | H10: 7951 | I10: 7285 | J10: 6788 | K10: 6177 | L10: =SUM(B10:K10) -> 79889 | M10: =L10/$L$19 -> 0.022464444
A11: podkarpackie | B11: 19953 | C11: 19566 | D11: 20262 | E11: 21927 | F11: 21533 | G11: 20613 | H11: 19580 | I11: 17929 | J11: 16812 | K11: 14877 | L11: =SUM(B11:K11) -> 193052 | M11: =L11/$L$19 -> 0.054285395
A12: podlaskie | B12: 11029 | C12: 10825 | D12: 11373 | E12: 12054 | F12: 11790 | G12: 11342 | H12: 10557 | I12: 10112 | J12: 9150 | K12: 8280 | L12: =SUM(B12:K12) -> 106512 | M12: =L12/$L$19 -> 0.029950718
A13: pomorskie | B13: 24610 | C13: 24596 | D13: 25865 | E13: 27481 | F13: 26498 | G13: 26041 | H13: 24495 | I13: 23335 | J13: 20993 | K13: 19126 | L13: =SUM(B13:K13) -> 243040 | M13: =L13/$L$19 -> 0.068341806
A14: śląskie | B14: 42720 | C14: 41611 | D14: 42742 | E14: 44971 | F14: 42596 | G14: 40508 | H14: 38151 | I14: 34736 | J14: 31597 | K14: 27641 | L14: =SUM(B14:K14) -> 387273 | M14: =L14/$L$19 -> 0.10889951
... A18: zachodniopomorskie | B18: 15530 | C18: 15088 | D18: 15688 | E18: 16276 | F18: 15389 | G18: 14614 | H18: 13730 | I18: 12850 | J18: 11654 | K18: 10447 | L18: =SUM(B18:K18) -> 141266 | M18: =L18/$L$19 -> 0.039723393
A19: POLSKA | B19: =SUM(B3:B18) -> 375160 | C19: =SUM(C3:C18) -> 369308 | D19: =SUM(D3:D18) -> 382257 | E19: =SUM(E3:E18) -> 401982 | F19: =SUM(F3:F18) -> 388178 | G19: =SUM(G3:G18) -> 374954 | H19: =SUM(H3:H18) -> 355309 | I19: =SUM(I3:I18) -> 331511 | ... K19: =SUM(K3:K18) -> 272451 | L19: =SUM(B19:K19) -> 3556242
A20: Nowe dziecko
A21: ….codziennie | B21: =B19/365 -> 1027.8356 | C21: =C19/365 -> 1011.8027 | D21: =D19/365 -> 1047.2795 | E21: =E19/365 -> 1101.3205 | F21: =F19/365 -> 1063.5014 | G21: =G19/365 -> 1027.2712 | H21: =H19/365 -> 973.44932 | I21: =I19/365 -> 908.24932 | ... K21: =K19/365 -> 746.4411
A22: …co godzinę | B22: =B21/24 -> 42.826484 | C22: =C21/24 -> 42.158447 | D22: =D21/24 -> 43.636644 | E22: =E21/24 -> 45.888356 | F22: =F21/24 -> 44.312557 | G22: =G21/24 -> 42.802968 | H22: =H21/24 -> 40.560388 | I22: =I21/24 -> 37.843721 | ... K22: =K21/24 -> 31.101712
A23: …co minutę | B23: =B22/60 -> 0.71377473 | C23: =C22/60 -> 0.70264079 | D23: =D22/60 -> 0.7272774 | E23: =E22/60 -> 0.76480594 | F23: =F22/60 -> 0.73854262 | G23: =G22/60 -> 0.7133828 | H23: =H22/60 -> 0.67600647 | I23: =I22/60 -> 0.63072869 | ... K23: =K22/60 -> 0.51836187
A24: Dziecko rodzi się….
A25: co x minut | B25: =1/B23 -> 1.4010022 | C25: =1/C23 -> 1.4232023 | D25: =1/D23 -> 1.3749912 | E25: =1/E23 -> 1.3075212 | F25: =1/F23 -> 1.354018 | G25: =1/G23 -> 1.401772 | H25: =1/H23 -> 1.4792758 | I25: =1/I23 -> 1.5854678 | ... K25: =1/K23 -> 1.9291542 | L25: =AVERAGE(B25:K25) -> 1.4978938

Sheet opuszczone
A1: Noworodki pozostawione
A2: Województwo | B2: 2014 | C2: 2015 | D2: 2016 | E2: 2017 | F2: 2018 | G2: 2019 | H2: 2020 | I2: 2021 | J2: 2022 | K2: 2023 | L2: Suma 10Y | M2: % sumy
A3: dolnośląskie | B3: 79 | C3: 102 | D3: 112 | E3: 89 | F3: 80 | G3: 85 | H3: 100 | I3: 89 | J3: 95 | K3: 118 | L3: =SUM(B3:K3) -> 949 | M3: =L3/$L$19 -> 0.15456026
A4: kujawsko-pomorskie | B4: 58 | C4: 36 | D4: 28 | E4: 29 | F4: 43 | G4: 47 | H4: 44 | I4: 46 | J4: 43 | K4: 33 | L4: =SUM(B4:K4) -> 407 | M4: =L4/$L$19 -> 0.066286645
A5: lubelskie | B5: 26 | C5: 27 | D5: 16 | E5: 14 | F5: 13 | G5: 7 | H5: 19 | I5: 11 | J5: 11 | K5: 19 | L5: =SUM(B5:K5) -> 163 | M5: =L5/$L$19 -> 0.026547231
A6: lubuskie | B6: 38 | C6: 45 | D6: 25 | E6: 15 | F6: 19 | G6: 42 | H6: 24 | I6: 20 | J6: 38 | K6: 43 | L6: =SUM(B6:K6) -> 309 | M6: =L6/$L$19 -> 0.050325733
A7: łódzkie | B7: 51 | C7: 57 | D7: 78 | E7: 75 | F7: 31 | G7: 29 | H7: 25 | I7: 36 | J7: 21 | K7: 32 | L7: =SUM(B7:K7) -> 435 | M7: =L7/$L$19 -> 0.070846906
A8: małopolskie | B8: 57 | C8: 69 | D8: 49 | E8: 38 | F8: 31 | G8: 34 | H8: 31 | I8: 38 | J8: 35 | K8: 41 | L8: =SUM(B8:K8) -> 423 | M8: =L8/$L$19 -> 0.068892508
A9: mazowieckie | B9: 98 | C9: 89 | D9: 56 | E9: 79 | F9: 45 | G9: 88 | H9: 55 | I9: 130 | J9: 15 | K9: 13 | L9: =SUM(B9:K9) -> 668 | M9: =L9/$L$19 -> 0.10879479
A10: opolskie | B10: 23 | C10: 24 | D10: 12 | E10: 18 | F10: 23 | G10: 13 | H10: 10 | I10: 13 | J10: 17 | K10: 9 | L10: =SUM(B10:K10) -> 162 | M10: =L10/$L$19 -> 0.026384365
A11: podkarpackie | B11: 8 | C11: 9 | D11: 4 | E11: 5 | F11: 7 | G11: 1 | H11: 3 | I11: 6 | J11: 1 | K11: 3 | L11: =SUM(B11:K11) -> 47 | M11: =L11/$L$19 -> 0.0076547231
A12: podlaskie | B12: 24 | C12: 5 | D12: 12 | E12: 4 | F12: 6 | G12: 0 | H12: 3 | I12: 15 | J12: 16 | K12: 21 | L12: =SUM(B12:K12) -> 106 | M12: =L12/$L$19 -> 0.017263844
A13: pomorskie | B13: 50 | C13: 40 | D13: 34 | E13: 43 | F13: 31 | G13: 23 | H13: 33 | I13: 34 | J13: 39 | K13: 30 | L13: =SUM(B13:K13) -> 357 | M13: =L13/$L$19 -> 0.058143322
A14: śląskie | B14: 100 | C14: 102 | D14: 74 | E14: 48 | F14: 56 | G14: 50 | H14: 80 | I14: 65 | J14: 75 | K14: 76 | L14: =SUM(B14:K14) -> 726 | M14: =L14/$L$19 -> 0.11824104
... A18: zachodniopomorskie | B18: 62 | C18: 70 | D18: 142 | E18: 30 | F18: 45 | G18: 47 | H18: 19 | I18: 82 | J18: 61 | K18: 80 | L18: =SUM(B18:K18) -> 638 | M18: =L18/$L$19 -> 0.10390879
A19: Polska | B19: =SUM(B3:B18) -> 772 | C19: =SUM(C3:C18) -> 762 | D19: =SUM(D3:D18) -> 709 | E19: =SUM(E3:E18) -> 551 | F19: =SUM(F3:F18) -> 472 | G19: =SUM(G3:G18) -> 527 | H19: =SUM(H3:H18) -> 506 | I19: =SUM(I3:I18) -> 643 | ... K19: =SUM(K3:K18) -> 627 | L19: =SUM(B19:K19) -> 6140
A21: Opuszczane co ile….
A22: godzin | B22: =1/(B19/(365*24)) -> 11.34715 | C22: =1/(C19/(365*24)) -> 11.496063 | D22: =1/(D19/(365*24)) -> 12.35543 | E22: =1/(E19/(365*24)) -> 15.898367 | F22: =1/(F19/(365*24)) -> 18.559322 | G22: =1/(G19/(365*24)) -> 16.622391 | H22: =1/(H19/(365*24)) -> 17.312253 | I22: =1/(I19/(365*24)) -> 13.623639 | ... K22: =1/(K19/(365*24)) -> 13.971292
